BEGIN:VCALENDAR
VERSION:1.0
PRODID:QRando-Events Calendar
BEGIN:VEVENT
SUMMARY:Scheunen-Gottesdienst
DESCRIPTION;ENCODING=QUOTED-PRINTABLE:anschliessend Picknick=0D=0DGoogle Maps: http://maps.google.com/maps?q=TodsbÃ¸lvej+21+6360+Tinglev+Denmark
LOCATION:Scheune von Nicolai Christiansen / Skov i Lovtrupmark, Todsb&oslash;lvej 21, 6360 Tinglev
CATEGORIES:
PRIORITY:3
DTSTART:20260614T063000z
DTEND:20260614T072900z
END:VEVENT
END:VCALENDAR