BEGIN:VCALENDAR
VERSION:1.0
PRODID:QRando-Events Calendar
BEGIN:VEVENT
SUMMARY:dÃ¤n.-deut. Freiluftgottesdienst auf der Kirchwiese
DESCRIPTION;ENCODING=QUOTED-PRINTABLE:=0D=0DGoogle Maps: http://maps.google.com/maps?q=Kirkepladsen+1+6360+Tinglev+Denmark
LOCATION:Kirche zu Tingleff / Tinglev kirke, Kirkepladsen 1, 6360 Tinglev
CATEGORIES:
PRIORITY:3
DTSTART:20260524T100000z
DTEND:20260524T105900z
END:VEVENT
END:VCALENDAR