BEGIN:VCALENDAR
VERSION:1.0
PRODID:QRando-Events Calendar
BEGIN:VEVENT
SUMMARY:Gottesdienst
DESCRIPTION;ENCODING=QUOTED-PRINTABLE:=0D=0DGoogle Maps: http://maps.google.com/maps?q=Kliplev+Hovedgaden+2+6200+Aabenraa+Denmark
LOCATION:Kirche zu Klipleff / Kliplev kirke, Kliplev Hovedgaden 2, 6200 Aabenraa
CATEGORIES:
PRIORITY:3
DTSTART:20260517T120000z
DTEND:20260517T125900z
END:VEVENT
END:VCALENDAR